BEGIN:VCALENDAR
VERSION:2.0
PRODID:-//The 14th Century Littlebourne Barn - ECPv6.9.0//NONSGML v1.0//EN
CALSCALE:GREGORIAN
METHOD:PUBLISH
X-ORIGINAL-URL:https://www.littlebournebarn.co.uk
X-WR-CALDESC:Events for The 14th Century Littlebourne Barn
REFRESH-INTERVAL;VALUE=DURATION:PT1H
X-Robots-Tag:noindex
X-PUBLISHED-TTL:PT1H
BEGIN:VTIMEZONE
TZID:UTC
BEGIN:STANDARD
TZOFFSETFROM:+0000
TZOFFSETTO:+0000
TZNAME:UTC
DTSTART:20250101T000000
END:STANDARD
END:VTIMEZONE
BEGIN:VEVENT
DTSTART;VALUE=DATE:20250720
DTEND;VALUE=DATE:20250721
DTSTAMP:20260420T180913
CREATED:20241107T151646Z
LAST-MODIFIED:20241107T151646Z
UID:631-1752969600-1753055999@www.littlebournebarn.co.uk
SUMMARY:Littlebourne Barn Summer Fete
DESCRIPTION:All the fun of a village fete at the Barn
URL:https://www.littlebournebarn.co.uk/event/littlebourne-barn-summer-fete/
ORGANIZER;CN="Barn Committee":MAILTO:enquiries@littlebournebarn.co.uk
END:VEVENT
END:VCALENDAR