BEGIN:VCALENDAR
VERSION:2.0
PRODID:-//The 14th Century Littlebourne Barn - ECPv6.9.0//NONSGML v1.0//EN
CALSCALE:GREGORIAN
METHOD:PUBLISH
X-ORIGINAL-URL:https://www.littlebournebarn.co.uk
X-WR-CALDESC:Events for The 14th Century Littlebourne Barn
REFRESH-INTERVAL;VALUE=DURATION:PT1H
X-Robots-Tag:noindex
X-PUBLISHED-TTL:PT1H
BEGIN:VTIMEZONE
TZID:UTC
BEGIN:STANDARD
TZOFFSETFROM:+0000
TZOFFSETTO:+0000
TZNAME:UTC
DTSTART:20240101T000000
END:STANDARD
END:VTIMEZONE
BEGIN:VEVENT
DTSTART;TZID=UTC:20241214T093000
DTEND;TZID=UTC:20241214T113000
DTSTAMP:20260420T140802
CREATED:20241107T150529Z
LAST-MODIFIED:20241107T150915Z
UID:624-1734168600-1734175800@www.littlebournebarn.co.uk
SUMMARY:Dog Training
DESCRIPTION:
URL:https://www.littlebournebarn.co.uk/event/dog-training-3/
ORGANIZER;CN="Samantha Humberstone":MAILTO:woofssniffswalks@gmail.com
END:VEVENT
END:VCALENDAR